BEGIN:VCALENDAR
VERSION:2.0
PRODID:SchoolNow
CALSCALE:GREGORIAN
BEGIN:VEVENT
UID:2c215f50-b4cc-11e9-884a-0a1cc7508ae4
DTSTAMP:20190820T170540Z
SUMMARY:Management Committee
URL;VALUE=URI:https://www.lakestcharles.org/calendar/2047342/management-com
 mittee
DTSTART:20190919T163000Z
DTEND:20190919T173000Z
END:VEVENT
END:VCALENDAR
