BEGIN:VCALENDAR
VERSION:2.0
PRODID:SchoolNow
CALSCALE:GREGORIAN
BEGIN:VEVENT
UID:2c215a28-b4cc-11e9-b2d9-0a1cc7508ae4
DTSTAMP:20190820T170531Z
SUMMARY:Grounds/Security Mtg
URL;VALUE=URI:https://www.lakestcharles.org/calendar/2047341/grounds-securi
 ty-mtg
DTSTART:20190918T163000Z
DTEND:20190918T173000Z
END:VEVENT
END:VCALENDAR
