BEGIN:VCALENDAR
VERSION:2.0
PRODID:SchoolNow
CALSCALE:GREGORIAN
BEGIN:VEVENT
UID:2c2154ec-b4cc-11e9-85ee-0a1cc7508ae4
DTSTAMP:20190820T170518Z
SUMMARY:Strategic Planning Committee
URL;VALUE=URI:https://www.lakestcharles.org/calendar/2047340/strategic-plan
 ning-committee
DTSTART:20190917T140000Z
DTEND:20190917T150000Z
END:VEVENT
END:VCALENDAR
