BEGIN:VCALENDAR
VERSION:2.0
PRODID:SchoolNow
CALSCALE:GREGORIAN
BEGIN:VEVENT
UID:2c214fb0-b4cc-11e9-90d6-0a1cc7508ae4
DTSTAMP:20190912T152657Z
SUMMARY:CDD Board Meeting
URL;VALUE=URI:https://www.lakestcharles.org/calendar/2047339/cdd-board-meet
 ing
DTSTART:20190910T230000Z
DTEND:20190911T003000Z
ATTACH;FILENAME=2019-05 Adoption of FY19-20 Budget & Assessment Roll with R
 esolution 09-10-2019.pdf;FMTTYPE=application/pdf:https://campussuite-stora
 ge.s3.amazonaws.com/prod/1558814/4c63d158-ac98-11e9-859c-0af81b81c350/1982
 347/df8dddc2-d56d-11e9-a328-0acda2e9f416/file/2019-05 Adoption of FY19-20 
 Budget & Assessment Roll with Resolution 09-10-2019.pdf
ATTACH;FILENAME=2019-09-10 Agenda.pdf;FMTTYPE=application/pdf:https://campu
 ssuite-storage.s3.amazonaws.com/prod/1558814/4c63d158-ac98-11e9-859c-0af81
 b81c350/1982367/f77b455c-d570-11e9-a2e1-123198a15d16/file/2019-09-10 Agend
 a.pdf
ATTACH;FILENAME=2019-08-06 BOS Meeting Minutes.pdf;FMTTYPE=application/pdf:
 https://campussuite-storage.s3.amazonaws.com/prod/1558814/4c63d158-ac98-11
 e9-859c-0af81b81c350/1982366/f77b4160-d570-11e9-a386-123198a15d16/file/201
 9-08-06 BOS Meeting Minutes.pdf
ATTACH;FILENAME=2019-09-10 Supervisor Packet.pdf;FMTTYPE=application/pdf:ht
 tps://campussuite-storage.s3.amazonaws.com/prod/1558814/4c63d158-ac98-11e9
 -859c-0af81b81c350/1982363/57fd51f0-d570-11e9-937f-1270187cff3e/file/2019-
 09-10 Supervisor Packet.pdf
END:VEVENT
END:VCALENDAR
