BEGIN:VCALENDAR
VERSION:2.0
PRODID:SchoolNow
CALSCALE:GREGORIAN
BEGIN:VEVENT
UID:2c214a74-b4cc-11e9-ad2f-0a1cc7508ae4
DTSTAMP:20190820T170500Z
SUMMARY:HOA Meeting
URL;VALUE=URI:https://www.lakestcharles.org/calendar/2047338/hoa-meeting
DTSTART:20190909T223000Z
DTEND:20190909T233000Z
END:VEVENT
END:VCALENDAR
