BEGIN:VCALENDAR
VERSION:2.0
PRODID:SchoolNow
CALSCALE:GREGORIAN
BEGIN:VEVENT
UID:2c213fde-b4cc-11e9-9ae6-0a1cc7508ae4
DTSTAMP:20190820T160414Z
SUMMARY:Strategic Planning Committee
URL;VALUE=URI:https://www.lakestcharles.org/calendar/2047336/strategic-plan
 ning-committee
DTSTART:20190820T140000Z
DTEND:20190820T150000Z
END:VEVENT
END:VCALENDAR
