BEGIN:VCALENDAR
VERSION:2.0
PRODID:SchoolNow
CALSCALE:GREGORIAN
BEGIN:VEVENT
UID:2c213aac-b4cc-11e9-9a06-0a1cc7508ae4
DTSTAMP:20190802T022101Z
SUMMARY:Clubhouse All Day Rental
URL;VALUE=URI:https://www.lakestcharles.org/calendar/2047335/clubhouse-all-
 day-rental
DTSTART:20190817T120000Z
DTEND:20190818T030000Z
END:VEVENT
END:VCALENDAR
