BEGIN:VCALENDAR
VERSION:2.0
PRODID:SchoolNow
CALSCALE:GREGORIAN
BEGIN:VEVENT
UID:2c213548-b4cc-11e9-926f-0a1cc7508ae4
DTSTAMP:20190820T170819Z
SUMMARY:Treasurer's Review Mtg
URL;VALUE=URI:https://www.lakestcharles.org/calendar/2047334/treasurers-rev
 iew-mtg
DTSTART:20190816T150000Z
DTEND:20190816T160000Z
END:VEVENT
END:VCALENDAR
