BEGIN:VCALENDAR
VERSION:2.0
PRODID:SchoolNow
CALSCALE:GREGORIAN
BEGIN:VEVENT
UID:2c212f9e-b4cc-11e9-9e75-0a1cc7508ae4
DTSTAMP:20190820T170837Z
SUMMARY:Management Committee
URL;VALUE=URI:https://www.lakestcharles.org/calendar/2047333/management-com
 mittee
DTSTART:20190815T163000Z
DTEND:20190815T173000Z
END:VEVENT
END:VCALENDAR
