BEGIN:VCALENDAR
VERSION:2.0
PRODID:SchoolNow
CALSCALE:GREGORIAN
BEGIN:VEVENT
UID:2c21294a-b4cc-11e9-b3f4-0a1cc7508ae4
DTSTAMP:20190820T170853Z
SUMMARY:HOA Meeting
URL;VALUE=URI:https://www.lakestcharles.org/calendar/2047332/hoa-meeting
DTSTART:20190812T223000Z
DTEND:20190812T233000Z
END:VEVENT
END:VCALENDAR
