BEGIN:VCALENDAR
VERSION:2.0
PRODID:SchoolNow
CALSCALE:GREGORIAN
BEGIN:VEVENT
UID:2c210e24-b4cc-11e9-acb7-0a1cc7508ae4
DTSTAMP:20190820T170914Z
SUMMARY:CDD Board Meeting
URL;VALUE=URI:https://www.lakestcharles.org/calendar/2047331/cdd-board-meet
 ing
DTSTART:20190806T230000Z
DTEND:20190807T003000Z
END:VEVENT
END:VCALENDAR
